BEGIN:VCALENDAR
VERSION:2.0
PRODID:-//South Piedmont Community College - ECPv6.15.15//NONSGML v1.0//EN
CALSCALE:GREGORIAN
METHOD:PUBLISH
X-ORIGINAL-URL:https://spcc.edu
X-WR-CALDESC:Events for South Piedmont Community College
REFRESH-INTERVAL;VALUE=DURATION:PT1H
X-Robots-Tag:noindex
X-PUBLISHED-TTL:PT1H
BEGIN:VTIMEZONE
TZID:America/New_York
BEGIN:DAYLIGHT
TZOFFSETFROM:-0500
TZOFFSETTO:-0400
TZNAME:EDT
DTSTART:20250309T070000
END:DAYLIGHT
BEGIN:STANDARD
TZOFFSETFROM:-0400
TZOFFSETTO:-0500
TZNAME:EST
DTSTART:20251102T060000
END:STANDARD
BEGIN:DAYLIGHT
TZOFFSETFROM:-0500
TZOFFSETTO:-0400
TZNAME:EDT
DTSTART:20260308T070000
END:DAYLIGHT
BEGIN:STANDARD
TZOFFSETFROM:-0400
TZOFFSETTO:-0500
TZNAME:EST
DTSTART:20261101T060000
END:STANDARD
BEGIN:DAYLIGHT
TZOFFSETFROM:-0500
TZOFFSETTO:-0400
TZNAME:EDT
DTSTART:20270314T070000
END:DAYLIGHT
BEGIN:STANDARD
TZOFFSETFROM:-0400
TZOFFSETTO:-0500
TZNAME:EST
DTSTART:20271107T060000
END:STANDARD
END:VTIMEZONE
BEGIN:VEVENT
DTSTART;TZID=America/New_York:20260425T100000
DTEND;TZID=America/New_York:20260425T130000
DTSTAMP:20260422T181905
CREATED:20260330T202522Z
LAST-MODIFIED:20260330T202522Z
UID:10000735-1777111200-1777122000@spcc.edu
SUMMARY:Touch a Truck event and Open House
DESCRIPTION:Come learn about South Piedmont — and bring the kids. At this event\, hosted in partnership with the Anson County Partnership for Children\, attendees will be able to tour the South Piedmont L.L. Polk Campus\, learn about the admissions process and financial aid\, explore program offerings\, and get to know faculty and staff. There will also be a Touch a Truck event for kids\, plus bounce houses\, a water tent\, hot dogs\, ice cream\, and PreK screenings. Free and open to the public.
URL:https://spcc.edu/event/touch-a-truck-event-and-open-house/
LOCATION:Polkton\, 680 U.S. 74\, Polkton\, NC\, 28135
END:VEVENT
BEGIN:VEVENT
DTSTART;TZID=America/New_York:20260428T000000
DTEND;TZID=America/New_York:20260428T235959
DTSTAMP:20260422T181905
CREATED:20260324T205950Z
LAST-MODIFIED:20260324T205950Z
UID:10000733-1777334400-1777420799@spcc.edu
SUMMARY:Spring Fling\, Sci Fest\, and Al the Gator reveal
DESCRIPTION:
URL:https://spcc.edu/event/spring-fling-sci-fest-and-al-the-gator-reveal/
LOCATION:Building A\, OCH Campus\, 1851 S Piedmont St\, Monroe\, North Carolina\, 28110
END:VEVENT
BEGIN:VEVENT
DTSTART;TZID=America/New_York:20260428T120000
DTEND;TZID=America/New_York:20260428T140000
DTSTAMP:20260422T181905
CREATED:20260414T194109Z
LAST-MODIFIED:20260415T130942Z
UID:10000741-1777377600-1777384800@spcc.edu
SUMMARY:PrintPalooza on the Front Patio
DESCRIPTION:What’s Happening at the Visual Art Building?\n\nSpring is in full bloom—and so is our creativity! Don’t miss these exciting opportunities to connect\, learn\, and make art together this April.\n\nCelebrate printmaking with a hands-on block printing demo and tote bag sale! Create your own print to take home\, or purchase a handmade screen-printed tote crafted by SPCC Art Club. Stop by\, print\, and support student artists!
URL:https://spcc.edu/event/printpalooza-on-the-front-patio/
LOCATION:Visual Art Building\, 4215 Old Charlotte Hwy\, Monroe\, NC\, 28110\, United States
END:VEVENT
BEGIN:VEVENT
DTSTART;TZID=America/New_York:20260428T130000
DTEND;TZID=America/New_York:20260428T140000
DTSTAMP:20260422T181905
CREATED:20260402T182433Z
LAST-MODIFIED:20260402T182433Z
UID:10000739-1777381200-1777384800@spcc.edu
SUMMARY:NC SciFest 2026
DESCRIPTION:Please join us for the NC Science Festival Keynote Speaker Event! \nGuests will have the opportunity to hear from local meteorologists from WBTV Charlotte at the OCH Campus Auditorium. \nRegister today! Space capacity is limited. \nGUEST SPEAKERS \nRachel Coulter\, WBTV Charlotte Meteorologist: \nRachel is one of the Weekday Meteorologists for WBTV in Charlotte\, North Carolina. Her fascination with the weather began early! She remembers starting a storm chasing club as a child and pursued her love for storms all the way to college. Rachel earned a meteorology degree from Millersville University in Pennsylvania\, where she also had the opportunity to play basketball. Initially drawn to research\, Rachel quickly discovered a passion for forecasting and communicating the weather through a couple of influential broadcast meteorology internships. \nLisa Villega\, WBTV Charlotte Meteorologist:\nLisa is an Emmy-winning Meteorologist who forecasts on weekday evenings in Charlotte. She felt an instant connection to the Queen City and is proud to call it home. Whether she’s tracking severe storms or soaking in a warm Carolina sunset\, Lisa is passionate about helping viewers feel informed\, prepared\, and connected to the world around them. \n**STEM lab visits (10:30AM-12:45pm) science demonstrations (2:10PM-3:00PM) will be happening before and after our Keynote Speaker Event on the 3rd floor of Main.
URL:https://spcc.edu/event/nc-scifest-2026/
LOCATION:South Piedmont OCH Campus\, 1851 S Piedmont Street\, Monroe\, NC\, 28110\, United States
END:VEVENT
BEGIN:VEVENT
DTSTART;TZID=America/New_York:20260429T000000
DTEND;TZID=America/New_York:20260429T235959
DTSTAMP:20260422T181905
CREATED:20260324T210011Z
LAST-MODIFIED:20260324T210011Z
UID:10000734-1777420800-1777507199@spcc.edu
SUMMARY:LLP Spring Fling
DESCRIPTION:
URL:https://spcc.edu/event/llp-spring-fling/
LOCATION:Polkton\, 680 U.S. 74\, Polkton\, NC\, 28135
END:VEVENT
BEGIN:VEVENT
DTSTART;TZID=America/New_York:20260430T120000
DTEND;TZID=America/New_York:20260430T130000
DTSTAMP:20260422T181905
CREATED:20260414T194150Z
LAST-MODIFIED:20260414T194150Z
UID:10000742-1777550400-1777554000@spcc.edu
SUMMARY:Artist Talk & Reception with Lee Ko
DESCRIPTION:What’s Happening at the Visual Art Building?\n\nSpring is in full bloom—and so is our creativity! Don’t miss these exciting opportunities to connect\, learn\, and make art together this April.\n\nJoin us in the SPCC Art Galleries for Lee Ko’s artist talk celebrating her show Eggcellent SculpTOON. Hear about her creative process\, playful sculptural forms\, and inspirations behind her works—followed by a light reception.
URL:https://spcc.edu/event/artist-talk-reception-with-lee-ko/
LOCATION:Visual Art Building\, 4215 Old Charlotte Hwy\, Monroe\, NC\, 28110\, United States
END:VEVENT
END:VCALENDAR