BEGIN:VCALENDAR
VERSION:2.0
PRODID:-//South Piedmont Community College - ECPv6.15.15//NONSGML v1.0//EN
CALSCALE:GREGORIAN
METHOD:PUBLISH
X-WR-CALNAME:South Piedmont Community College
X-ORIGINAL-URL:https://spcc.edu
X-WR-CALDESC:Events for South Piedmont Community College
REFRESH-INTERVAL;VALUE=DURATION:PT1H
X-Robots-Tag:noindex
X-PUBLISHED-TTL:PT1H
BEGIN:VTIMEZONE
TZID:America/New_York
BEGIN:DAYLIGHT
TZOFFSETFROM:-0500
TZOFFSETTO:-0400
TZNAME:EDT
DTSTART:20250309T070000
END:DAYLIGHT
BEGIN:STANDARD
TZOFFSETFROM:-0400
TZOFFSETTO:-0500
TZNAME:EST
DTSTART:20251102T060000
END:STANDARD
BEGIN:DAYLIGHT
TZOFFSETFROM:-0500
TZOFFSETTO:-0400
TZNAME:EDT
DTSTART:20260308T070000
END:DAYLIGHT
BEGIN:STANDARD
TZOFFSETFROM:-0400
TZOFFSETTO:-0500
TZNAME:EST
DTSTART:20261101T060000
END:STANDARD
BEGIN:DAYLIGHT
TZOFFSETFROM:-0500
TZOFFSETTO:-0400
TZNAME:EDT
DTSTART:20270314T070000
END:DAYLIGHT
BEGIN:STANDARD
TZOFFSETFROM:-0400
TZOFFSETTO:-0500
TZNAME:EST
DTSTART:20271107T060000
END:STANDARD
END:VTIMEZONE
BEGIN:VEVENT
DTSTART;TZID=America/New_York:20260309T080000
DTEND;TZID=America/New_York:20260313T170000
DTSTAMP:20260422T182032
CREATED:20251218T154627Z
LAST-MODIFIED:20251218T154627Z
UID:10000700-1773043200-1773421200@spcc.edu
SUMMARY:Student Spring Break (No Classes)
DESCRIPTION:
URL:https://spcc.edu/event/student-spring-break-no-classes/
LOCATION:NC
END:VEVENT
BEGIN:VEVENT
DTSTART;TZID=America/New_York:20260311T130000
DTEND;TZID=America/New_York:20260311T140000
DTSTAMP:20260422T182032
CREATED:20260311T180024Z
LAST-MODIFIED:20260311T182009Z
UID:10000723-1773234000-1773237600@spcc.edu
SUMMARY:The Great Data Quest: Dashboard Discovery Session
DESCRIPTION:Join us for a fun\, hands‑on session where faculty and staff can explore the college’s new dashboards in an engaging\, low‑pressure environment. We’ll start with a brief demo to highlight key features and navigation tips\, then dive into a lively scavenger‑hunt challenge—complete with prizes! Come discover the insights available\, learn how dashboards can support your work\, and enjoy a casual\, interactive data adventure. \nDetails: Thursday\, March 19\, 1:00-2:00pm – CLT HyFlex Session \nTeams Meeting Link: https://teams.microsoft.com/meet/2705918403258?p=6bNjJTnZUA3mtX8fsv
URL:https://spcc.edu/event/the-great-data-quest-dashboard-discovery-session/
LOCATION:NC
END:VEVENT
BEGIN:VEVENT
DTSTART;TZID=America/New_York:20260316T080000
DTEND;TZID=America/New_York:20260316T170000
DTSTAMP:20260422T182032
CREATED:20251218T154645Z
LAST-MODIFIED:20251218T154645Z
UID:10000701-1773648000-1773680400@spcc.edu
SUMMARY:Classes Resume
DESCRIPTION:
URL:https://spcc.edu/event/classes-resume/
LOCATION:NC
END:VEVENT
BEGIN:VEVENT
DTSTART;TZID=America/New_York:20260326T160000
DTEND;TZID=America/New_York:20260326T190000
DTSTAMP:20260422T182032
CREATED:20260324T205305Z
LAST-MODIFIED:20260324T205305Z
UID:10000725-1774540800-1774551600@spcc.edu
SUMMARY:Open House (SPRING 2026)
DESCRIPTION:See what’s snapping at South Piedmont Community College Open House! \nJoin us on March 26th at the Old Charlotte Highway Campus and the Tyson Family Center for Technology. The evening is drop-in style\, please stop in at the time that fits your schedule from 4pm-7pm. \nIf you register for and attend our Open House\, you’ll be entered to win a $150 AMAZON GIFTCARD! \nThe evening will include: \n\nCampus Tours: Explore our modern health sciences\, manufacturing and technology labs.\nProgram Information: Learn about our academic and short-term workforce training programs.\nMeet and greets: Connect with College administrators\, faculty\, and staff members.\nProgram demonstrations: Get hands-on experience through interactive demonstrations.\nStudent Life: Learn about student clubs and organizations.\nFinancial Aid Info: Receive essential information on financial aid options.\nAdmissions: Apply for admission and get guidance on the next steps for enrollment.\n\nRegistration is requested but not required. \nLocations \nOld Charlotte Highway Campus: 1851 South Piedmont Street\, Monroe \nTyson Family Center for Technology: 3509 Old Charlotte Highway\, Monroe
URL:https://spcc.edu/event/open-house-spring-2026/
LOCATION:NC
END:VEVENT
END:VCALENDAR