BEGIN:VCALENDAR
VERSION:2.0
PRODID:-//South Piedmont Community College - ECPv6.15.15//NONSGML v1.0//EN
CALSCALE:GREGORIAN
METHOD:PUBLISH
X-ORIGINAL-URL:https://spcc.edu
X-WR-CALDESC:Events for South Piedmont Community College
REFRESH-INTERVAL;VALUE=DURATION:PT1H
X-Robots-Tag:noindex
X-PUBLISHED-TTL:PT1H
BEGIN:VTIMEZONE
TZID:America/New_York
BEGIN:DAYLIGHT
TZOFFSETFROM:-0500
TZOFFSETTO:-0400
TZNAME:EDT
DTSTART:20240310T070000
END:DAYLIGHT
BEGIN:STANDARD
TZOFFSETFROM:-0400
TZOFFSETTO:-0500
TZNAME:EST
DTSTART:20241103T060000
END:STANDARD
BEGIN:DAYLIGHT
TZOFFSETFROM:-0500
TZOFFSETTO:-0400
TZNAME:EDT
DTSTART:20250309T070000
END:DAYLIGHT
BEGIN:STANDARD
TZOFFSETFROM:-0400
TZOFFSETTO:-0500
TZNAME:EST
DTSTART:20251102T060000
END:STANDARD
BEGIN:DAYLIGHT
TZOFFSETFROM:-0500
TZOFFSETTO:-0400
TZNAME:EDT
DTSTART:20260308T070000
END:DAYLIGHT
BEGIN:STANDARD
TZOFFSETFROM:-0400
TZOFFSETTO:-0500
TZNAME:EST
DTSTART:20261101T060000
END:STANDARD
END:VTIMEZONE
BEGIN:VEVENT
DTSTART;TZID=America/New_York:20251103T120000
DTEND;TZID=America/New_York:20251103T133000
DTSTAMP:20260423T002932
CREATED:20251007T184332Z
LAST-MODIFIED:20251013T131747Z
UID:10000674-1762171200-1762176600@spcc.edu
SUMMARY:Al the Gator Documentary Premier
DESCRIPTION:
URL:https://spcc.edu/event/al-the-gator-documentary-premier/
LOCATION:NC
END:VEVENT
BEGIN:VEVENT
DTSTART;TZID=America/New_York:20251103T120000
DTEND;TZID=America/New_York:20251103T133000
DTSTAMP:20260423T002932
CREATED:20251009T130951Z
LAST-MODIFIED:20251013T131705Z
UID:10000676-1762171200-1762176600@spcc.edu
SUMMARY:Documentary Premier
DESCRIPTION:“Later\, Gator: From Sketch to Spirit” documentary premier \nLearn the story behind South Piedmont’s new Al the Gator mascot in this documentary by Marketing & Communications. Free and open to the public.
URL:https://spcc.edu/event/documentary-premier-2/
LOCATION:Old Charlotte Highway Campus auditorium\, 4209 Old Charlotte Highway\, Monroe\, NC\, 28110\, United States
END:VEVENT
BEGIN:VEVENT
DTSTART;TZID=America/New_York:20251103T180000
DTEND;TZID=America/New_York:20251103T190000
DTSTAMP:20260423T002932
CREATED:20251007T184446Z
LAST-MODIFIED:20251007T184446Z
UID:10000675-1762192800-1762196400@spcc.edu
SUMMARY:Al the Gator Documentary Premier(Evening)
DESCRIPTION:
URL:https://spcc.edu/event/al-the-gator-documentary-premierevening/
LOCATION:NC
END:VEVENT
BEGIN:VEVENT
DTSTART;TZID=America/New_York:20251105T170000
DTEND;TZID=America/New_York:20251105T180000
DTSTAMP:20260423T002932
CREATED:20251009T131415Z
LAST-MODIFIED:20251009T131415Z
UID:10000681-1762362000-1762365600@spcc.edu
SUMMARY:Installation Ceremony
DESCRIPTION:
URL:https://spcc.edu/event/installation-ceremony/
LOCATION:Building A\, OCH Campus\, 1851 S Piedmont St\, Monroe\, North Carolina\, 28110
END:VEVENT
BEGIN:VEVENT
DTSTART;TZID=America/New_York:20251106T180000
DTEND;TZID=America/New_York:20251106T190000
DTSTAMP:20260423T002932
CREATED:20251021T191612Z
LAST-MODIFIED:20251021T191612Z
UID:10000683-1762452000-1762455600@spcc.edu
SUMMARY:Anson Advantage Webinar
DESCRIPTION:The Anson Advantage is a scholarship program created exclusively for Anson County residents. It helps make higher education more accessible by eliminating or significantly reducing the cost of earning a college degree or completing an in-demand workforce certifications at South Piedmont Community College. \nDuring this event\, you’ll be able to speak with representatives from Admissions and Financial Aid\, to learn more about how to qualify for this program and the next steps for receiving Anson Advantage funding.
URL:https://spcc.edu/event/anson-advantage-webinar/
LOCATION:
END:VEVENT
BEGIN:VEVENT
DTSTART;TZID=America/New_York:20251112T114500
DTEND;TZID=America/New_York:20251112T131500
DTSTAMP:20260423T002932
CREATED:20251009T131114Z
LAST-MODIFIED:20251009T131114Z
UID:10000677-1762947900-1762953300@spcc.edu
SUMMARY:World Hunger Awareness Banquet
DESCRIPTION:World Hunger Awareness Banquet SAVE THE DATE! \nDate: November 12 2025 \nTime: 11:45 AM – 1:15 PM \nLocation: Student Center\, OCH Main
URL:https://spcc.edu/event/world-hunger-awareness-banquet/
LOCATION:South Piedmont OCH Campus\, 1851 S Piedmont Street\, Monroe\, NC\, 28110\, United States
END:VEVENT
BEGIN:VEVENT
DTSTART;TZID=America/New_York:20251124T000000
DTEND;TZID=America/New_York:20251125T235959
DTSTAMP:20260423T002932
CREATED:20250715T151953Z
LAST-MODIFIED:20250715T151953Z
UID:10000666-1763942400-1764115199@spcc.edu
SUMMARY:Fall Break (No Classes)
DESCRIPTION:
URL:https://spcc.edu/event/fall-break-no-classes/
LOCATION:NC
END:VEVENT
BEGIN:VEVENT
DTSTART;TZID=America/New_York:20251126T000000
DTEND;TZID=America/New_York:20251128T235959
DTSTAMP:20260423T002932
CREATED:20250715T152011Z
LAST-MODIFIED:20250715T152011Z
UID:10000667-1764115200-1764374399@spcc.edu
SUMMARY:Thanksgiving Holiday (College Closed)
DESCRIPTION:
URL:https://spcc.edu/event/thanksgiving-holiday-college-closed/
LOCATION:NC
END:VEVENT
END:VCALENDAR