BEGIN:VCALENDAR
VERSION:2.0
PRODID:-//South Piedmont Community College - ECPv6.15.15//NONSGML v1.0//EN
CALSCALE:GREGORIAN
METHOD:PUBLISH
X-ORIGINAL-URL:https://spcc.edu
X-WR-CALDESC:Events for South Piedmont Community College
REFRESH-INTERVAL;VALUE=DURATION:PT1H
X-Robots-Tag:noindex
X-PUBLISHED-TTL:PT1H
BEGIN:VTIMEZONE
TZID:America/New_York
BEGIN:DAYLIGHT
TZOFFSETFROM:-0500
TZOFFSETTO:-0400
TZNAME:EDT
DTSTART:20250309T070000
END:DAYLIGHT
BEGIN:STANDARD
TZOFFSETFROM:-0400
TZOFFSETTO:-0500
TZNAME:EST
DTSTART:20251102T060000
END:STANDARD
BEGIN:DAYLIGHT
TZOFFSETFROM:-0500
TZOFFSETTO:-0400
TZNAME:EDT
DTSTART:20260308T070000
END:DAYLIGHT
BEGIN:STANDARD
TZOFFSETFROM:-0400
TZOFFSETTO:-0500
TZNAME:EST
DTSTART:20261101T060000
END:STANDARD
BEGIN:DAYLIGHT
TZOFFSETFROM:-0500
TZOFFSETTO:-0400
TZNAME:EDT
DTSTART:20270314T070000
END:DAYLIGHT
BEGIN:STANDARD
TZOFFSETFROM:-0400
TZOFFSETTO:-0500
TZNAME:EST
DTSTART:20271107T060000
END:STANDARD
END:VTIMEZONE
BEGIN:VEVENT
DTSTART;TZID=America/New_York:20260508T093000
DTEND;TZID=America/New_York:20260508T130000
DTSTAMP:20260422T194747
CREATED:20260330T202943Z
LAST-MODIFIED:20260330T202943Z
UID:10000736-1778232600-1778245200@spcc.edu
SUMMARY:The Graduation Experience
DESCRIPTION:The Graduation Experience\nMay 8th\nOCH Campus – BLDG A (Conference Center)\n9:30 am – 1:00 pm\n\nJoin us for a special edition of Take Off Thursdays as we celebrate The Graduation Experience!\n\nThis exciting event is designed to connect our graduating students\, alumni\, and community job seekers with employer partners ready to hire and support the next steps. Whether they are preparing to walk across the stage or are already planning their career journey\, this is THE opportunity to launch forward.\n\n✨ Meet employers ✨ Explore career opportunities\n✨ Build professional connections ✨ Take the next steps beyond graduation\n\n\nCurrently Registered Employers (with more to come):\n \n\n\n\n\n\n\nAnderson Health Services\nAramark\nAtrium Health\nBAYADA Home Health Care\nNC Department of Insurance\nHand and Stone Massage & Facial Spa\nITEC\nKindred Home LLC\nLawrence Associates\n\n\nLittle Gerald Services\nMcClintock Heating\, Cooling & Electrical\, Inc.\nMcKenney’s LLC\nNovant Health\nOmega In-Home Services\nPruittHealth\nSouth Piedmont Community College\nSteel Point\nTrue Rock Construction\n\n\n\n\n\n\nLet’s celebrate their success and help them take off into their new Journey! 🚀\n\nAs always\, we have resources available to help with resume updating and best practice interviewing skills:\n\n\nCareer Connector:\n\n\n\n704.272.5370; Careerconnector@spcc.edu;\n\n\nhttps://www.collegecentral.com/spcc/\n \n\n\n\nMIC Center:\n\n\n\nVirtual: Book time with Ingrid Connie Gardner: MIC Center Virtual Appointments;\n\n\nIn person:  Book time with Ingrid Connie Gardner: MIC Center In-Person Appointments\n\n\n\n\n\nHuman Resources Development (HRD):\n\n\n\n\nhttps://spcc.edu/programs/human-resource-development/\n\n\n\n\n\nGoodwill of Southern Piedmont:\n\n\n\nMore Details to Come!!!!
URL:https://spcc.edu/event/the-graduation-experience/
LOCATION:Conference Room\, 680 US 70\, Polkton\, NC\, 28135
END:VEVENT
END:VCALENDAR