BEGIN:VCALENDAR
VERSION:2.0
PRODID:-//South Piedmont Community College - ECPv6.15.15//NONSGML v1.0//EN
CALSCALE:GREGORIAN
METHOD:PUBLISH
X-WR-CALNAME:South Piedmont Community College
X-ORIGINAL-URL:https://spcc.edu
X-WR-CALDESC:Events for South Piedmont Community College
REFRESH-INTERVAL;VALUE=DURATION:PT1H
X-Robots-Tag:noindex
X-PUBLISHED-TTL:PT1H
BEGIN:VTIMEZONE
TZID:America/New_York
BEGIN:DAYLIGHT
TZOFFSETFROM:-0500
TZOFFSETTO:-0400
TZNAME:EDT
DTSTART:20250309T070000
END:DAYLIGHT
BEGIN:STANDARD
TZOFFSETFROM:-0400
TZOFFSETTO:-0500
TZNAME:EST
DTSTART:20251102T060000
END:STANDARD
BEGIN:DAYLIGHT
TZOFFSETFROM:-0500
TZOFFSETTO:-0400
TZNAME:EDT
DTSTART:20260308T070000
END:DAYLIGHT
BEGIN:STANDARD
TZOFFSETFROM:-0400
TZOFFSETTO:-0500
TZNAME:EST
DTSTART:20261101T060000
END:STANDARD
BEGIN:DAYLIGHT
TZOFFSETFROM:-0500
TZOFFSETTO:-0400
TZNAME:EDT
DTSTART:20270314T070000
END:DAYLIGHT
BEGIN:STANDARD
TZOFFSETFROM:-0400
TZOFFSETTO:-0500
TZNAME:EST
DTSTART:20271107T060000
END:STANDARD
END:VTIMEZONE
BEGIN:VEVENT
DTSTART;TZID=America/New_York:20260429T000000
DTEND;TZID=America/New_York:20260429T235959
DTSTAMP:20260422T181905
CREATED:20260324T210011Z
LAST-MODIFIED:20260324T210011Z
UID:10000734-1777420800-1777507199@spcc.edu
SUMMARY:LLP Spring Fling
DESCRIPTION:
URL:https://spcc.edu/event/llp-spring-fling/
LOCATION:Polkton\, 680 U.S. 74\, Polkton\, NC\, 28135
END:VEVENT
END:VCALENDAR