BEGIN:VCALENDAR
VERSION:2.0
PRODID:-//South Piedmont Community College - ECPv6.15.15//NONSGML v1.0//EN
CALSCALE:GREGORIAN
METHOD:PUBLISH
X-WR-CALNAME:South Piedmont Community College
X-ORIGINAL-URL:https://spcc.edu
X-WR-CALDESC:Events for South Piedmont Community College
REFRESH-INTERVAL;VALUE=DURATION:PT1H
X-Robots-Tag:noindex
X-PUBLISHED-TTL:PT1H
BEGIN:VTIMEZONE
TZID:America/New_York
BEGIN:DAYLIGHT
TZOFFSETFROM:-0500
TZOFFSETTO:-0400
TZNAME:EDT
DTSTART:20250309T070000
END:DAYLIGHT
BEGIN:STANDARD
TZOFFSETFROM:-0400
TZOFFSETTO:-0500
TZNAME:EST
DTSTART:20251102T060000
END:STANDARD
BEGIN:DAYLIGHT
TZOFFSETFROM:-0500
TZOFFSETTO:-0400
TZNAME:EDT
DTSTART:20260308T070000
END:DAYLIGHT
BEGIN:STANDARD
TZOFFSETFROM:-0400
TZOFFSETTO:-0500
TZNAME:EST
DTSTART:20261101T060000
END:STANDARD
BEGIN:DAYLIGHT
TZOFFSETFROM:-0500
TZOFFSETTO:-0400
TZNAME:EDT
DTSTART:20270314T070000
END:DAYLIGHT
BEGIN:STANDARD
TZOFFSETFROM:-0400
TZOFFSETTO:-0500
TZNAME:EST
DTSTART:20271107T060000
END:STANDARD
END:VTIMEZONE
BEGIN:VEVENT
DTSTART;TZID=America/New_York:20260425T100000
DTEND;TZID=America/New_York:20260425T130000
DTSTAMP:20260422T181106
CREATED:20260330T202522Z
LAST-MODIFIED:20260330T202522Z
UID:10000735-1777111200-1777122000@spcc.edu
SUMMARY:Touch a Truck event and Open House
DESCRIPTION:Come learn about South Piedmont — and bring the kids. At this event\, hosted in partnership with the Anson County Partnership for Children\, attendees will be able to tour the South Piedmont L.L. Polk Campus\, learn about the admissions process and financial aid\, explore program offerings\, and get to know faculty and staff. There will also be a Touch a Truck event for kids\, plus bounce houses\, a water tent\, hot dogs\, ice cream\, and PreK screenings. Free and open to the public.
URL:https://spcc.edu/event/touch-a-truck-event-and-open-house/
LOCATION:Polkton\, 680 U.S. 74\, Polkton\, NC\, 28135
END:VEVENT
END:VCALENDAR