BEGIN:VCALENDAR
VERSION:2.0
PRODID:-//South Piedmont Community College - ECPv6.15.15//NONSGML v1.0//EN
CALSCALE:GREGORIAN
METHOD:PUBLISH
X-WR-CALNAME:South Piedmont Community College
X-ORIGINAL-URL:https://spcc.edu
X-WR-CALDESC:Events for South Piedmont Community College
REFRESH-INTERVAL;VALUE=DURATION:PT1H
X-Robots-Tag:noindex
X-PUBLISHED-TTL:PT1H
BEGIN:VTIMEZONE
TZID:America/New_York
BEGIN:DAYLIGHT
TZOFFSETFROM:-0500
TZOFFSETTO:-0400
TZNAME:EDT
DTSTART:20250309T070000
END:DAYLIGHT
BEGIN:STANDARD
TZOFFSETFROM:-0400
TZOFFSETTO:-0500
TZNAME:EST
DTSTART:20251102T060000
END:STANDARD
BEGIN:DAYLIGHT
TZOFFSETFROM:-0500
TZOFFSETTO:-0400
TZNAME:EDT
DTSTART:20260308T070000
END:DAYLIGHT
BEGIN:STANDARD
TZOFFSETFROM:-0400
TZOFFSETTO:-0500
TZNAME:EST
DTSTART:20261101T060000
END:STANDARD
BEGIN:DAYLIGHT
TZOFFSETFROM:-0500
TZOFFSETTO:-0400
TZNAME:EDT
DTSTART:20270314T070000
END:DAYLIGHT
BEGIN:STANDARD
TZOFFSETFROM:-0400
TZOFFSETTO:-0500
TZNAME:EST
DTSTART:20271107T060000
END:STANDARD
END:VTIMEZONE
BEGIN:VEVENT
DTSTART;TZID=America/New_York:20260112T080000
DTEND;TZID=America/New_York:20260112T170000
DTSTAMP:20260422T225006
CREATED:20251218T154525Z
LAST-MODIFIED:20251218T154525Z
UID:10000698-1768204800-1768237200@spcc.edu
SUMMARY:First Day of 1st 5-Week Session
DESCRIPTION:
URL:https://spcc.edu/event/first-day-of-1st-5-week-session/
LOCATION:NC
END:VEVENT
BEGIN:VEVENT
DTSTART;TZID=America/New_York:20260112T130000
DTEND;TZID=America/New_York:20260112T150000
DTSTAMP:20260422T225006
CREATED:20251215T152016Z
LAST-MODIFIED:20251215T152016Z
UID:10000696-1768222800-1768230000@spcc.edu
SUMMARY:Library Services GRAND OPENING
DESCRIPTION:SAVE THE DATE \nDate: Monday\, January 12\nTime: 1:00–3:00 PM\nLocation: Library\, OCH Main Room 3168 \n\nSee the new Learning Commons space\nMeet the library staff\nLearn what Library Services has to offer\nPick-a-Mix candy bar!\nPRIZES!!!!
URL:https://spcc.edu/event/library-services-grand-opening/
LOCATION:South Piedmont OCH Campus\, 1851 S Piedmont Street\, Monroe\, NC\, 28110\, United States
END:VEVENT
END:VCALENDAR