BEGIN:VCALENDAR
VERSION:2.0
PRODID:-//South Piedmont Community College - ECPv6.15.15//NONSGML v1.0//EN
CALSCALE:GREGORIAN
METHOD:PUBLISH
X-ORIGINAL-URL:https://spcc.edu
X-WR-CALDESC:Events for South Piedmont Community College
REFRESH-INTERVAL;VALUE=DURATION:PT1H
X-Robots-Tag:noindex
X-PUBLISHED-TTL:PT1H
BEGIN:VTIMEZONE
TZID:America/New_York
BEGIN:DAYLIGHT
TZOFFSETFROM:-0500
TZOFFSETTO:-0400
TZNAME:EDT
DTSTART:20240310T070000
END:DAYLIGHT
BEGIN:STANDARD
TZOFFSETFROM:-0400
TZOFFSETTO:-0500
TZNAME:EST
DTSTART:20241103T060000
END:STANDARD
BEGIN:DAYLIGHT
TZOFFSETFROM:-0500
TZOFFSETTO:-0400
TZNAME:EDT
DTSTART:20250309T070000
END:DAYLIGHT
BEGIN:STANDARD
TZOFFSETFROM:-0400
TZOFFSETTO:-0500
TZNAME:EST
DTSTART:20251102T060000
END:STANDARD
BEGIN:DAYLIGHT
TZOFFSETFROM:-0500
TZOFFSETTO:-0400
TZNAME:EDT
DTSTART:20260308T070000
END:DAYLIGHT
BEGIN:STANDARD
TZOFFSETFROM:-0400
TZOFFSETTO:-0500
TZNAME:EST
DTSTART:20261101T060000
END:STANDARD
END:VTIMEZONE
BEGIN:VEVENT
DTSTART;TZID=America/New_York:20251031T090000
DTEND;TZID=America/New_York:20251031T100000
DTSTAMP:20260423T015717
CREATED:20251027T130227Z
LAST-MODIFIED:20251027T130227Z
UID:10000688-1761901200-1761904800@spcc.edu
SUMMARY:Presidential Listening Tour
DESCRIPTION:Have an idea for South Piedmont? See areas in need of improvement? Just want to get to know your new president? Now’s your chance. President Waters-Bailey is hosting FOUR listening sessions this week. This is your chance to share your thoughts\, ask questions\, and build a relationship with our president. Please join us! \nVirtual on Microsoft Teams
URL:https://spcc.edu/event/presidential-listening-tour-4/
LOCATION:NC
END:VEVENT
BEGIN:VEVENT
DTSTART;TZID=America/New_York:20251031T110000
DTEND;TZID=America/New_York:20251031T130000
DTSTAMP:20260423T015717
CREATED:20251027T165843Z
LAST-MODIFIED:20251027T182015Z
UID:10000690-1761908400-1761915600@spcc.edu
SUMMARY:Dia de Muertos Celebration!(LLP)
DESCRIPTION:Dia de Muertos Celebration!\nWe’re honoring life\, memory\, and tradition — SPCC style!\nStop by for Pan De Muertos (Sweet bread)\, crafts\, and more to celebrate this beautiful Mexican holiday. This is a Global Scholars Passport Event\, so you can earn credit toward your program requirements.\n📍 OCH → Wednesday\, Oct 29 Main Building Hallway\n📍 LLP → Friday\, Oct 31 Horne Library Foyer\n🕚 11 a.m. – 1 p.m.\nBring your friends\, snap some pics\, and celebrate with your campus familia!
URL:https://spcc.edu/event/dia-de-muertos-celebrationllp/
LOCATION:NC
END:VEVENT
END:VCALENDAR