BEGIN:VCALENDAR
VERSION:2.0
PRODID:-//South Piedmont Community College - ECPv6.15.15//NONSGML v1.0//EN
CALSCALE:GREGORIAN
METHOD:PUBLISH
X-ORIGINAL-URL:https://spcc.edu
X-WR-CALDESC:Events for South Piedmont Community College
REFRESH-INTERVAL;VALUE=DURATION:PT1H
X-Robots-Tag:noindex
X-PUBLISHED-TTL:PT1H
BEGIN:VTIMEZONE
TZID:America/New_York
BEGIN:DAYLIGHT
TZOFFSETFROM:-0500
TZOFFSETTO:-0400
TZNAME:EDT
DTSTART:20240310T070000
END:DAYLIGHT
BEGIN:STANDARD
TZOFFSETFROM:-0400
TZOFFSETTO:-0500
TZNAME:EST
DTSTART:20241103T060000
END:STANDARD
BEGIN:DAYLIGHT
TZOFFSETFROM:-0500
TZOFFSETTO:-0400
TZNAME:EDT
DTSTART:20250309T070000
END:DAYLIGHT
BEGIN:STANDARD
TZOFFSETFROM:-0400
TZOFFSETTO:-0500
TZNAME:EST
DTSTART:20251102T060000
END:STANDARD
BEGIN:DAYLIGHT
TZOFFSETFROM:-0500
TZOFFSETTO:-0400
TZNAME:EDT
DTSTART:20260308T070000
END:DAYLIGHT
BEGIN:STANDARD
TZOFFSETFROM:-0400
TZOFFSETTO:-0500
TZNAME:EST
DTSTART:20261101T060000
END:STANDARD
END:VTIMEZONE
BEGIN:VEVENT
DTSTART;TZID=America/New_York:20251030T110000
DTEND;TZID=America/New_York:20251030T120000
DTSTAMP:20260423T015651
CREATED:20251027T130122Z
LAST-MODIFIED:20251027T130122Z
UID:10000687-1761822000-1761825600@spcc.edu
SUMMARY:Presidential Listening Tour
DESCRIPTION:Have an idea for South Piedmont? See areas in need of improvement? Just want to get to know your new president? Now’s your chance. President Waters-Bailey is hosting FOUR listening sessions this week. This is your chance to share your thoughts\, ask questions\, and build a relationship with our president. Please join us! \n\nLLP Campus\, Garibaldi Building\, Leavitt Auditorium
URL:https://spcc.edu/event/presidential-listening-tour-3/
LOCATION:Polkton\, 680 U.S. 74\, Polkton\, NC\, 28135
END:VEVENT
BEGIN:VEVENT
DTSTART;TZID=America/New_York:20251030T180000
DTEND;TZID=America/New_York:20251030T200000
DTSTAMP:20260423T015651
CREATED:20251009T131210Z
LAST-MODIFIED:20251009T131210Z
UID:10000678-1761847200-1761854400@spcc.edu
SUMMARY:Trunk or Treat
DESCRIPTION:Trunk or Treat  \nWHEN? \nOctober 30\, 2025 \n6 pm – 8 pm \nWHERE? \nLLP Martin Student Center Parking Lot – Polkton \nJoin the fun with decorated trunks\, treats\, and campus-wide cheer! This event is open to the public!
URL:https://spcc.edu/event/trunk-or-treat/
LOCATION:Polkton\, 680 U.S. 74\, Polkton\, NC\, 28135
END:VEVENT
END:VCALENDAR