BEGIN:VCALENDAR
VERSION:2.0
PRODID:-//South Piedmont Community College - ECPv6.15.15//NONSGML v1.0//EN
CALSCALE:GREGORIAN
METHOD:PUBLISH
X-WR-CALNAME:South Piedmont Community College
X-ORIGINAL-URL:https://spcc.edu
X-WR-CALDESC:Events for South Piedmont Community College
REFRESH-INTERVAL;VALUE=DURATION:PT1H
X-Robots-Tag:noindex
X-PUBLISHED-TTL:PT1H
BEGIN:VTIMEZONE
TZID:America/New_York
BEGIN:DAYLIGHT
TZOFFSETFROM:-0500
TZOFFSETTO:-0400
TZNAME:EDT
DTSTART:20240310T070000
END:DAYLIGHT
BEGIN:STANDARD
TZOFFSETFROM:-0400
TZOFFSETTO:-0500
TZNAME:EST
DTSTART:20241103T060000
END:STANDARD
BEGIN:DAYLIGHT
TZOFFSETFROM:-0500
TZOFFSETTO:-0400
TZNAME:EDT
DTSTART:20250309T070000
END:DAYLIGHT
BEGIN:STANDARD
TZOFFSETFROM:-0400
TZOFFSETTO:-0500
TZNAME:EST
DTSTART:20251102T060000
END:STANDARD
BEGIN:DAYLIGHT
TZOFFSETFROM:-0500
TZOFFSETTO:-0400
TZNAME:EDT
DTSTART:20260308T070000
END:DAYLIGHT
BEGIN:STANDARD
TZOFFSETFROM:-0400
TZOFFSETTO:-0500
TZNAME:EST
DTSTART:20261101T060000
END:STANDARD
END:VTIMEZONE
BEGIN:VEVENT
DTSTART;TZID=America/New_York:20251028T140000
DTEND;TZID=America/New_York:20251028T150000
DTSTAMP:20260423T015446
CREATED:20251027T130000Z
LAST-MODIFIED:20251027T130119Z
UID:10000686-1761660000-1761663600@spcc.edu
SUMMARY:Presidential Listening Tour
DESCRIPTION:Have an idea for South Piedmont? See areas in need of improvement? Just want to get to know your new president? Now’s your chance. President Waters-Bailey is hosting FOUR listening sessions this week. This is your chance to share your thoughts\, ask questions\, and build a relationship with our president. Please join us! \n\n Lockhart-Taylor Center\, Studio A
URL:https://spcc.edu/event/presidential-listening-tour-2/
LOCATION:Lockhart-Taylor Center\, 514 N. Washington St.\, Wadesboro\, NC\, 28170\, United States
END:VEVENT
END:VCALENDAR