BEGIN:VCALENDAR
VERSION:2.0
PRODID:-//South Piedmont Community College - ECPv6.15.15//NONSGML v1.0//EN
CALSCALE:GREGORIAN
METHOD:PUBLISH
X-ORIGINAL-URL:https://spcc.edu
X-WR-CALDESC:Events for South Piedmont Community College
REFRESH-INTERVAL;VALUE=DURATION:PT1H
X-Robots-Tag:noindex
X-PUBLISHED-TTL:PT1H
BEGIN:VTIMEZONE
TZID:America/New_York
BEGIN:DAYLIGHT
TZOFFSETFROM:-0500
TZOFFSETTO:-0400
TZNAME:EDT
DTSTART:20240310T070000
END:DAYLIGHT
BEGIN:STANDARD
TZOFFSETFROM:-0400
TZOFFSETTO:-0500
TZNAME:EST
DTSTART:20241103T060000
END:STANDARD
BEGIN:DAYLIGHT
TZOFFSETFROM:-0500
TZOFFSETTO:-0400
TZNAME:EDT
DTSTART:20250309T070000
END:DAYLIGHT
BEGIN:STANDARD
TZOFFSETFROM:-0400
TZOFFSETTO:-0500
TZNAME:EST
DTSTART:20251102T060000
END:STANDARD
BEGIN:DAYLIGHT
TZOFFSETFROM:-0500
TZOFFSETTO:-0400
TZNAME:EDT
DTSTART:20260308T070000
END:DAYLIGHT
BEGIN:STANDARD
TZOFFSETFROM:-0400
TZOFFSETTO:-0500
TZNAME:EST
DTSTART:20261101T060000
END:STANDARD
END:VTIMEZONE
BEGIN:VEVENT
DTSTART;TZID=America/New_York:20251013T000000
DTEND;TZID=America/New_York:20251014T235959
DTSTAMP:20260423T034305
CREATED:20250715T151924Z
LAST-MODIFIED:20250715T151924Z
UID:10000665-1760313600-1760486399@spcc.edu
SUMMARY:Student Break (No Classes)
DESCRIPTION:
URL:https://spcc.edu/event/student-break-no-classes/
LOCATION:NC
END:VEVENT
BEGIN:VEVENT
DTSTART;TZID=America/New_York:20251013T090000
DTEND;TZID=America/New_York:20251013T140000
DTSTAMP:20260423T034305
CREATED:20251009T131537Z
LAST-MODIFIED:20251009T131537Z
UID:10000682-1760346000-1760364000@spcc.edu
SUMMARY:🍁 Fall into Learning: A Day to Boost Your Skills 🍁
DESCRIPTION:What to Expect: \n\n\nEngaging workshops led by your colleagues and campus partners\nPractical tools and takeaways you can apply right away\nOpportunities to connect with peers across disciplines\nA supportive space to explore innovation and share successes\nLunch included and a variety giveaway throughout the day!
URL:https://spcc.edu/event/%f0%9f%8d%81-fall-into-learning-a-day-to-boost-your-skills-%f0%9f%8d%81/
LOCATION:South Piedmont OCH Campus\, 1851 S Piedmont Street\, Monroe\, NC\, 28110\, United States
END:VEVENT
END:VCALENDAR