BEGIN:VCALENDAR
VERSION:2.0
PRODID:-//South Piedmont Community College - ECPv6.15.15//NONSGML v1.0//EN
CALSCALE:GREGORIAN
METHOD:PUBLISH
X-WR-CALNAME:South Piedmont Community College
X-ORIGINAL-URL:https://spcc.edu
X-WR-CALDESC:Events for South Piedmont Community College
REFRESH-INTERVAL;VALUE=DURATION:PT1H
X-Robots-Tag:noindex
X-PUBLISHED-TTL:PT1H
BEGIN:VTIMEZONE
TZID:America/New_York
BEGIN:DAYLIGHT
TZOFFSETFROM:-0500
TZOFFSETTO:-0400
TZNAME:EDT
DTSTART:20240310T070000
END:DAYLIGHT
BEGIN:STANDARD
TZOFFSETFROM:-0400
TZOFFSETTO:-0500
TZNAME:EST
DTSTART:20241103T060000
END:STANDARD
BEGIN:DAYLIGHT
TZOFFSETFROM:-0500
TZOFFSETTO:-0400
TZNAME:EDT
DTSTART:20250309T070000
END:DAYLIGHT
BEGIN:STANDARD
TZOFFSETFROM:-0400
TZOFFSETTO:-0500
TZNAME:EST
DTSTART:20251102T060000
END:STANDARD
BEGIN:DAYLIGHT
TZOFFSETFROM:-0500
TZOFFSETTO:-0400
TZNAME:EDT
DTSTART:20260308T070000
END:DAYLIGHT
BEGIN:STANDARD
TZOFFSETFROM:-0400
TZOFFSETTO:-0500
TZNAME:EST
DTSTART:20261101T060000
END:STANDARD
END:VTIMEZONE
BEGIN:VEVENT
DTSTART;TZID=America/New_York:20250923T123000
DTEND;TZID=America/New_York:20250923T130000
DTSTAMP:20260423T051303
CREATED:20250911T194231Z
LAST-MODIFIED:20250915T130159Z
UID:10000671-1758630600-1758632400@spcc.edu
SUMMARY:Art Reception: Faculty Spotlight Show
DESCRIPTION:Location: Gallery in Building A
URL:https://spcc.edu/event/art-reception-faculty-spotlight-show/
LOCATION:Building A\, OCH Campus\, 1851 S Piedmont St\, Monroe\, North Carolina\, 28110
END:VEVENT
END:VCALENDAR